BEGIN:VCALENDAR
PRODID:-//eluceo/ical//2.0/EN
VERSION:2.0
CALSCALE:GREGORIAN
BEGIN:VEVENT
UID:05489a596ca9e5edcf4fd6dfb4cde975
DTSTAMP:20260424T155221Z
SUMMARY:Diamanti: cosa si nasconde davvero dietro la lucentezza di una piet
 ra acquistata in gioielleria?
DESCRIPTION:
URL:https://rotaract-ticino.ch/sv/agenda/show/204554
DTSTART;TZID=Europe/Zurich:20251112T191500
DTEND;TZID=Europe/Zurich:20251112T223000
LOCATION:Masseria\, Via Trevano 2\, 6948 Porza
CATEGORIES:Rotaract
END:VEVENT
BEGIN:VTIMEZONE
TZID:Europe/Zurich
BEGIN:STANDARD
DTSTART:20251112T191500
TZNAME:CET
TZOFFSETTO:+0100
TZOFFSETFROM:+0100
END:STANDARD
END:VTIMEZONE
END:VCALENDAR
