BEGIN:VCALENDAR
PRODID:-//eluceo/ical//2.0/EN
VERSION:2.0
CALSCALE:GREGORIAN
BEGIN:VEVENT
UID:b8019dcc2045701deb7106481a2ed6fe
DTSTAMP:20260424T173630Z
SUMMARY:SERVICE - TAVOLINO MAGICO
DESCRIPTION:
URL:https://rotaract-ticino.ch/sv/agenda/show/202672
DTSTART;TZID=Europe/Zurich:20251213T083000
DTEND;TZID=Europe/Zurich:20251213T170000
LOCATION:Coop di Bioggio
CATEGORIES:Rotaract
END:VEVENT
BEGIN:VTIMEZONE
TZID:Europe/Zurich
BEGIN:STANDARD
DTSTART:20251213T083000
TZNAME:CET
TZOFFSETTO:+0100
TZOFFSETFROM:+0100
END:STANDARD
END:VTIMEZONE
END:VCALENDAR
