BEGIN:VCALENDAR
PRODID:-//eluceo/ical//2.0/EN
VERSION:2.0
CALSCALE:GREGORIAN
BEGIN:VEVENT
UID:59cbb921661915865d7ac2f08b730f6d
DTSTAMP:20260423T093656Z
SUMMARY:Autumn Rotaract European Meeting 2022 in Dublin
DESCRIPTION:Webbplats: https://remdublin2022.com
URL:https://rotaract.ch/sv/agenda/show/149727
DTSTART;TZID=Europe/Zurich:20221020T120000
DTEND;TZID=Europe/Zurich:20221023T140000
LOCATION:Dublin\, Ireland
CATEGORIES:Rotaract
END:VEVENT
BEGIN:VTIMEZONE
TZID:Europe/Zurich
BEGIN:DAYLIGHT
DTSTART:20221020T120000
TZNAME:CEST
TZOFFSETTO:+0200
TZOFFSETFROM:+0200
END:DAYLIGHT
END:VTIMEZONE
END:VCALENDAR
