BEGIN:VCALENDAR
PRODID:-//eluceo/ical//2.0/EN
VERSION:2.0
CALSCALE:GREGORIAN
BEGIN:VEVENT
UID:b4bfe7482074e885fdaf9e8ce9ca3801
DTSTAMP:20260420T142310Z
SUMMARY:Brunch Natalizio
DESCRIPTION:Website: https://www.hotellido-lugano.com/it/
URL:https://rotaract-ticino.ch/nl/agenda/show/187326
DTSTART;TZID=Europe/Zurich:20251129T113000
DTEND;TZID=Europe/Zurich:20251129T150000
LOCATION:Hotel Lido Seegarten
CATEGORIES:Rotaract
END:VEVENT
BEGIN:VTIMEZONE
TZID:Europe/Zurich
BEGIN:STANDARD
DTSTART:20251129T113000
TZNAME:CET
TZOFFSETTO:+0100
TZOFFSETFROM:+0100
END:STANDARD
END:VTIMEZONE
END:VCALENDAR
