BEGIN:VCALENDAR
PRODID:-//eluceo/ical//2.0/EN
VERSION:2.0
CALSCALE:GREGORIAN
BEGIN:VEVENT
UID:7abb8d3962fdfda1e7eb0225c8adff9d
DTSTAMP:20260422T190722Z
SUMMARY:Bracciate Aperte
DESCRIPTION:
URL:https://rotaract-ticino.ch/nl/agenda/show/184725
DTSTART;TZID=Europe/Zurich:20240907T160000
DTEND;TZID=Europe/Zurich:20240907T160000
LOCATION:Lido di Lugano
CATEGORIES:Rotaract
END:VEVENT
BEGIN:VTIMEZONE
TZID:Europe/Zurich
BEGIN:DAYLIGHT
DTSTART:20240907T160000
TZNAME:CEST
TZOFFSETTO:+0200
TZOFFSETFROM:+0200
END:DAYLIGHT
END:VTIMEZONE
END:VCALENDAR
