BEGIN:VCALENDAR
PRODID:-//eluceo/ical//2.0/EN
VERSION:2.0
CALSCALE:GREGORIAN
BEGIN:VEVENT
UID:ebc16922f27ed715c930711aa94e9b76
DTSTAMP:20260422T193947Z
SUMMARY:Una serata in compagnia alla gintoneria
DESCRIPTION:
URL:https://rotaract-ticino.ch/nl/agenda/show/173377
DTSTART;TZID=Europe/Zurich:20240517T190000
DTEND;TZID=Europe/Zurich:20240517T220000
LOCATION:Gin8\, Locarno
CATEGORIES:Rotaract
END:VEVENT
BEGIN:VTIMEZONE
TZID:Europe/Zurich
BEGIN:DAYLIGHT
DTSTART:20240517T190000
TZNAME:CEST
TZOFFSETTO:+0200
TZOFFSETFROM:+0200
END:DAYLIGHT
END:VTIMEZONE
END:VCALENDAR
