BEGIN:VCALENDAR
PRODID:-//eluceo/ical//2.0/EN
VERSION:2.0
CALSCALE:GREGORIAN
BEGIN:VEVENT
UID:c2d3ba3df7d4cbb70adcc2fd1b11eb56
DTSTAMP:20260424T111030Z
SUMMARY:Brindisi di Natale
DESCRIPTION:
URL:https://rotaract-ticino.ch/nl/agenda/show/136156
DTSTART;TZID=Europe/Zurich:20211211T190000
DTEND;TZID=Europe/Zurich:20211211T234500
LOCATION:Lugano
CATEGORIES:Rotaract
END:VEVENT
BEGIN:VTIMEZONE
TZID:Europe/Zurich
BEGIN:STANDARD
DTSTART:20211211T190000
TZNAME:CET
TZOFFSETTO:+0100
TZOFFSETFROM:+0100
END:STANDARD
END:VTIMEZONE
END:VCALENDAR
