BEGIN:VCALENDAR
PRODID:-//eluceo/ical//2.0/EN
VERSION:2.0
CALSCALE:GREGORIAN
BEGIN:VEVENT
UID:ab83f1246cce84705ce17c0ce09648e6
DTSTAMP:20260421T095548Z
SUMMARY:Cena di Natale
DESCRIPTION:
URL:https://rotaract-ticino.ch/it/agenda/show/166695
DTSTART;TZID=Europe/Zurich:20231218T193000
DTEND;TZID=Europe/Zurich:20231218T223000
LOCATION:Villa Castagnola\, Lugano
CATEGORIES:Rotaract
END:VEVENT
BEGIN:VTIMEZONE
TZID:Europe/Zurich
BEGIN:STANDARD
DTSTART:20231218T193000
TZNAME:CET
TZOFFSETTO:+0100
TZOFFSETFROM:+0100
END:STANDARD
END:VTIMEZONE
END:VCALENDAR
