BEGIN:VCALENDAR
PRODID:-//eluceo/ical//2.0/EN
VERSION:2.0
CALSCALE:GREGORIAN
BEGIN:VEVENT
UID:141fa48ff97a1ce8888927ad6e1f8b1d
DTSTAMP:20260425T143004Z
SUMMARY:Aperitivo d'apertura per beneficienza al San Salvatore
DESCRIPTION:
URL:https://rotaract-ticino.ch/it/agenda/show/166284
DTSTART;TZID=Europe/Zurich:20230908T190000
DTEND;TZID=Europe/Zurich:20230908T220000
LOCATION:Ristorante San Salvatore\, Lugano-Paradiso
CATEGORIES:Rotaract
END:VEVENT
BEGIN:VTIMEZONE
TZID:Europe/Zurich
BEGIN:DAYLIGHT
DTSTART:20230908T190000
TZNAME:CEST
TZOFFSETTO:+0200
TZOFFSETFROM:+0200
END:DAYLIGHT
END:VTIMEZONE
END:VCALENDAR
