BEGIN:VCALENDAR
PRODID:-//eluceo/ical//2.0/EN
VERSION:2.0
CALSCALE:GREGORIAN
BEGIN:VEVENT
UID:2b0f9c2666c909997ca3259273174f66
DTSTAMP:20260422T092004Z
SUMMARY:Incontro Interclub
DESCRIPTION:
URL:https://rotaract-ticino.ch/it/agenda/show/151052
DTSTART;TZID=Europe/Zurich:20221108T183000
DTEND;TZID=Europe/Zurich:20221108T223000
LOCATION:Hotel Villa Sassa Lugano
CATEGORIES:Rotaract
END:VEVENT
BEGIN:VTIMEZONE
TZID:Europe/Zurich
BEGIN:STANDARD
DTSTART:20221108T183000
TZNAME:CET
TZOFFSETTO:+0100
TZOFFSETFROM:+0100
END:STANDARD
END:VTIMEZONE
END:VCALENDAR
