BEGIN:VCALENDAR
PRODID:-//eluceo/ical//2.0/EN
VERSION:2.0
CALSCALE:GREGORIAN
BEGIN:VEVENT
UID:5c61765777c41c03ed2bfcedca5eb4b2
DTSTAMP:20260426T004910Z
SUMMARY:Vernissage - MOSTRA ROTARY PER I GIOVANI ARTISTI
DESCRIPTION:Sito web: http://rotarygiovaniartisti.ch/
URL:https://rotaract-ticino.ch/it/agenda/show/138422
DTSTART;TZID=Europe/Zurich:20220427T183000
DTEND;TZID=Europe/Zurich:20220427T213000
LOCATION:Sala Patriziale\, Palazzo civico Bellinzona
CATEGORIES:Rotaract
END:VEVENT
BEGIN:VTIMEZONE
TZID:Europe/Zurich
BEGIN:DAYLIGHT
DTSTART:20220427T183000
TZNAME:CEST
TZOFFSETTO:+0200
TZOFFSETFROM:+0200
END:DAYLIGHT
END:VTIMEZONE
END:VCALENDAR
