BEGIN:VCALENDAR
PRODID:-//eluceo/ical//2.0/EN
VERSION:2.0
CALSCALE:GREGORIAN
BEGIN:VEVENT
UID:ef93aca832e5fcc1cfecd172ee0b991a
DTSTAMP:20260425T125306Z
SUMMARY:BRUNCH al Parco San Grato
DESCRIPTION:
URL:https://rotaract-ticino.ch/it/agenda/show/124304
DTSTART;TZID=Europe/Zurich:20210508T110000
DTEND;TZID=Europe/Zurich:20210508T110000
LOCATION:Parco San Grato\, Carona
CATEGORIES:Rotaract
END:VEVENT
BEGIN:VTIMEZONE
TZID:Europe/Zurich
BEGIN:DAYLIGHT
DTSTART:20210508T110000
TZNAME:CEST
TZOFFSETTO:+0200
TZOFFSETFROM:+0200
END:DAYLIGHT
END:VTIMEZONE
END:VCALENDAR
