BEGIN:VCALENDAR
PRODID:-//eluceo/ical//2.0/EN
VERSION:2.0
CALSCALE:GREGORIAN
BEGIN:VEVENT
UID:11c1b9cdb6e2a19102a5b2cc135c4278
DTSTAMP:20260419T150431Z
SUMMARY:USCITA GREEN - GRUPPO VERDE SPERANZA
DESCRIPTION:
URL:https://rotaract-ticino.ch/it/agenda/show/123705
DTSTART;TZID=Europe/Zurich:20210313T140000
DTEND;TZID=Europe/Zurich:20210313T170000
LOCATION:MAROGGIA
CATEGORIES:Rotaract
END:VEVENT
BEGIN:VTIMEZONE
TZID:Europe/Zurich
BEGIN:STANDARD
DTSTART:20210313T140000
TZNAME:CET
TZOFFSETTO:+0100
TZOFFSETFROM:+0100
END:STANDARD
END:VTIMEZONE
END:VCALENDAR
