BEGIN:VCALENDAR
PRODID:-//eluceo/ical//2.0/EN
VERSION:2.0
CALSCALE:GREGORIAN
BEGIN:VEVENT
UID:81c6404d7da85e23daf38e7cd2eca7b7
DTSTAMP:20260419T150606Z
SUMMARY:Conferenza Rotary Mendrisiotto - Gruppo Verde Speranza
DESCRIPTION:Relatore/i: Responsabili dell'Associazione "Gruppo Verde Speran
 za"
URL:https://rotaract-ticino.ch/it/agenda/show/123198
DTSTART;TZID=Europe/Zurich:20210218T201500
DTEND;TZID=Europe/Zurich:20210218T220000
LOCATION:ZOOM
CATEGORIES:Rotaract
END:VEVENT
BEGIN:VTIMEZONE
TZID:Europe/Zurich
BEGIN:STANDARD
DTSTART:20210218T201500
TZNAME:CET
TZOFFSETTO:+0100
TZOFFSETFROM:+0100
END:STANDARD
END:VTIMEZONE
END:VCALENDAR
