BEGIN:VCALENDAR
PRODID:-//eluceo/ical//2.0/EN
VERSION:2.0
CALSCALE:GREGORIAN
BEGIN:VEVENT
UID:ccc7e6af2476db5fc0959277b74e6d8d
DTSTAMP:20260421T091720Z
SUMMARY:Aperitivo (con Ospite)
DESCRIPTION:Dettagli seguiranno!
URL:https://rotaract-ticino.ch/it/agenda/show/121011
DTSTART;TZID=Europe/Zurich:20161213T000000
DTEND;TZID=Europe/Zurich:20161213T000000
LOCATION:La Lanchetta
CATEGORIES:Rotaract
END:VEVENT
BEGIN:VTIMEZONE
TZID:Europe/Zurich
BEGIN:STANDARD
DTSTART:20161213T000000
TZNAME:CET
TZOFFSETTO:+0100
TZOFFSETFROM:+0100
END:STANDARD
END:VTIMEZONE
END:VCALENDAR
