BEGIN:VCALENDAR
PRODID:-//eluceo/ical//2.0/EN
VERSION:2.0
CALSCALE:GREGORIAN
BEGIN:VEVENT
UID:e0d7fe110022b2c93233ff51b4099e93
DTSTAMP:20260421T120439Z
SUMMARY:Mercatino di Melide
DESCRIPTION:Cari soci\, cari amici\,\n\n \n\ndomenica 11 ottobre\, saremo 
 presenti al Mercatino d’Autunno a Melide\, in Piazza Domenico Fontana\
 , dalle 11.00 alle 17.00 con uno stand del Rotaract dove avremo la possi
 bilità di farci conoscere e di vendere le bottiglie del progetto Arte e V
 ino. Sarà un piacere scambiare due chiacchiere con chi avesse voglia di p
 assare a trovarci!\n\n \n\nRotaractiani saluti\n\n \n\n \n\nLuca Bottin
 elli\n\nSegretario\n\n079 751 20 25\n\nsegretariato@rac-luganoceresio.ch\
 n\n \n\nRotaract Lugano-Ceresio\n\nc/o Canvetto Luganese\n\nVia Rinaldo S
 imen 14\n\n6900 Lugano\n\n \n\n 
URL:https://rotaract-ticino.ch/it/agenda/show/120698
DTSTART;TZID=Europe/Zurich:20151011T110000
DTEND;TZID=Europe/Zurich:20151011T110000
LOCATION:Melide
CATEGORIES:Rotaract
END:VEVENT
BEGIN:VTIMEZONE
TZID:Europe/Zurich
BEGIN:DAYLIGHT
DTSTART:20151011T110000
TZNAME:CEST
TZOFFSETTO:+0200
TZOFFSETFROM:+0200
END:DAYLIGHT
END:VTIMEZONE
END:VCALENDAR
