BEGIN:VCALENDAR
PRODID:-//eluceo/ical//2.0/EN
VERSION:2.0
CALSCALE:GREGORIAN
BEGIN:VEVENT
UID:565b8e56e9879165b0486e4ce52b6261
DTSTAMP:20260421T080140Z
SUMMARY:The Green Game - Hockey Club Ceresio a sostegno di Greenhope
DESCRIPTION:Cari soci e amici\,\n\nil prossimo sabato 26 settembre alle ore
  17:30 l'Hockey Club Ceresio sfiderà alla Pista della Resega il Wallisell
 en in una partita valida per le qualifiche alla Coppa Svizzera.\n\n \n\nI
 n questa particolare occasione la società sportiva ha deciso di organizza
 re il 1° Charity Game per l’associazione Greenhope\, che ben conosciamo
  e che da alcuni anni sosteniamo attivamente (www.greenhope.ch).\n\n \n\n
 Dal punto di vista sportivo\, oltre a sperare nella qualificazione\, l’H
 ockey Club Ceresio vorrebbe riuscire a battere il record di spettatori per
  una squadra di 3 lega (attualmente è di 2’045 persone).\n\nL'incasso d
 ella partita (ci sono a disposizione anche biglietti speciali Premium e VI
 P)\, così come il ricavato dalle buvette\, saranno interamente devoluti
  all'associazione Greenhope.\n\nSperiamo di avervi fornito sufficienti mo
 tivi per vedervi numerosi sugli spalti SABATO 26 SETTEMBRE!!\n\n \n\nPer 
 ulteriori informazioni o riservazioni non esitate a scrivere all’indiriz
 zo CHARITYGAME@HC-CERESIO.CH.\n\n \n\nRotaractiani saluti\,\n\n \n\nil C
 omitato\n\n \n\nFederico Umberto Mion\nRotaract Club Lugano – Ceresio\n
 \nPast President\n\nc/o Canvetto Luganese\n\nVia Simen 14b\n\n6900 Lugano\
 n\n \n\nTel.: +41 79 811 31 96\n\nwww.rac-luganoceresio.ch\nSito web: htt
 p://www.greenhope.ch
URL:https://rotaract-ticino.ch/it/agenda/show/120682
DTSTART;TZID=Europe/Zurich:20150926T173000
DTEND;TZID=Europe/Zurich:20150926T173000
LOCATION:Resega - Lugano
CATEGORIES:Rotaract
END:VEVENT
BEGIN:VTIMEZONE
TZID:Europe/Zurich
BEGIN:DAYLIGHT
DTSTART:20150926T173000
TZNAME:CEST
TZOFFSETTO:+0200
TZOFFSETFROM:+0200
END:DAYLIGHT
END:VTIMEZONE
END:VCALENDAR
