BEGIN:VCALENDAR
PRODID:-//eluceo/ical//2.0/EN
VERSION:2.0
CALSCALE:GREGORIAN
BEGIN:VEVENT
UID:afb93673134dafc275c6c2d8cabf54d0
DTSTAMP:20260419T122406Z
SUMMARY:Parco Avventura Monte Tamaro
DESCRIPTION:Cari soci\,\n\nCari amici\,\n\necco finalizzata l’organizzazi
 one della piacevole giornata che  trascorreremo insieme al Parco Avventur
 a del Monte Tamaro domenica 31 maggio!\n\nIl ritrovo è fissato alle 9h30 
 ai piedi della telecabina. Raggiungeremo successivamente il Parco Avventur
 a\, situato a pochi minuti di salita con la telecabina dalla partenza. La 
 fine del percorso del Parco ci porterà dritti all’ora di pranzo: pranz
 o al sacco!\n\n \n\n\n\n\n\nOPZIONE A - SOLO PARCO AVVENTURA PERCORSO G
 RANDE\n+ ANDATA E RITORNO IN TELECABINA\ndai 9 anni compiuti\n\n\n(41.-) -
  20% = 32.80.-\n\n\n\n\nOPZIONE B - PARCO AVVENTURA PERCORSO GRANDE\n+ G
 RANDE TIROLESE + ANDATA E RITORNO IN TELECABINA\ndai 9 anni compiuti\n\n\
 n(47.-) - 20% = 37.60.-\n\n\n\nOPZIONE C - PARCO AVVENTURA PERCORSO GRAN
 DE + TIROLESE + TAMARO JUMPING + ANDATA E RITORNO TELECABINA\ndai 9 ann
 i compiuti\n(52.-) - 20% = 41.60.-\n\n\n \n \n\n\n\n\nPer pranzo quindi
  vi proponiamo di salire all’Alpe Foppa per gustarci il delizioso pic-ni
 c  che ognuno di noi si sarà portato nel proprio zaino. Su in cima all
 ’Alpe Foppa\, nel pomeriggio\, i più temerari potranno peraltro tenta
 re la più lunga e vertiginosa tirolese della Svizzera\, lanciandosi ad ol
 tre 60 km/h verso valle in un emozionante volo di oltre 400 m e/o addiritt
 ura tentare lo spettacolare salto (jumping) da un’altezza di circa 15 me
 tri !!! \n\nPer questioni organizzative\, l’iscrizione  - ed il corri
 spettivo pagamento (prezzi in giallo) in funzione dell’opzione scelta -
  è da inoltrare entro e non oltre mercoledì 8 luglio attraverso il s
 eguente link al doodle\, scegliendo tra le varie opzioni (parco avventura 
 – tirolese – jumping) :\n\n \n\nhttp://doodle.com/4v3avvz64vq5r65h\n\
 n \n\ndi seguito le coordinate bancarie del nostro conto:\n\n \n\nBenefi
 ciario:          Rotaract Club Lugano-Ceresio\n\nBanca:      
             Credit Suisse AG\, 8070 Zürich\n\nNumero di conto:
   0456-1249796-01\n\nIBAN:                   CH30 0483 51
 24 9796 0100 0\n\nSWIFT:                 CRESCHZZ80A \n\nVi
  aspettiamo numerosi domenica 12 luglio 2015 alle ore 9h30 ai piedi dell
 a telecabina per una giornata all'insegna della bella compagnia e del dive
 rtimento “locale” al Parco Avventura del Monte Tamaro!\n\n \n\nLuca B
 ottinelli\n\nSegretario\n\n079 751 20 25\n\nsegretariato@rac-luganoceresi
 o.ch\n\n \n\nRotaract Lugano-Ceresio\n\nc/o Canvetto Luganese\n\nVia Rina
 ldo Simen 14\n\n6900 Lugano\n\n \nSito web: http://www.montetamaro.ch
URL:https://rotaract-ticino.ch/it/agenda/show/120598
DTSTART;TZID=Europe/Zurich:20150712T093000
DTEND;TZID=Europe/Zurich:20150712T093000
LOCATION:Rivera
CATEGORIES:Rotaract
END:VEVENT
BEGIN:VTIMEZONE
TZID:Europe/Zurich
BEGIN:DAYLIGHT
DTSTART:20150712T093000
TZNAME:CEST
TZOFFSETTO:+0200
TZOFFSETFROM:+0200
END:DAYLIGHT
END:VTIMEZONE
END:VCALENDAR
