BEGIN:VCALENDAR
PRODID:-//eluceo/ical//2.0/EN
VERSION:2.0
CALSCALE:GREGORIAN
BEGIN:VEVENT
UID:0e8604958adcafd7a3fe10c785ab1d1f
DTSTAMP:20260419T171644Z
SUMMARY:30° anniversario Mine - ex
DESCRIPTION:Vefsíða: http://www.rac-luganoceresio.ch/club/activities/agen
 da.php
URL:https://rotaract-ticino.ch/is/agenda/show/195058
DTSTART;TZID=Europe/Zurich:20250521T183000
DTEND;TZID=Europe/Zurich:20250521T223000
LOCATION:Hotel Unione Bellinzona
CATEGORIES:Rotaract
END:VEVENT
BEGIN:VTIMEZONE
TZID:Europe/Zurich
BEGIN:DAYLIGHT
DTSTART:20250521T183000
TZNAME:CEST
TZOFFSETTO:+0200
TZOFFSETFROM:+0200
END:DAYLIGHT
END:VTIMEZONE
END:VCALENDAR
