BEGIN:VCALENDAR
PRODID:-//eluceo/ical//2.0/EN
VERSION:2.0
CALSCALE:GREGORIAN
BEGIN:VEVENT
UID:e9e02f9a06cec60b82d7a7986f06c220
DTSTAMP:20260421T115932Z
SUMMARY:INTERCLUB
DESCRIPTION:
URL:https://rotaract-ticino.ch/is/agenda/show/194366
DTSTART;TZID=Europe/Zurich:20250424T190000
DTEND;TZID=Europe/Zurich:20250424T220000
LOCATION:Da definire
CATEGORIES:Rotaract
END:VEVENT
BEGIN:VTIMEZONE
TZID:Europe/Zurich
BEGIN:DAYLIGHT
DTSTART:20250424T190000
TZNAME:CEST
TZOFFSETTO:+0200
TZOFFSETFROM:+0200
END:DAYLIGHT
END:VTIMEZONE
END:VCALENDAR
