BEGIN:VCALENDAR
PRODID:-//eluceo/ical//2.0/EN
VERSION:2.0
CALSCALE:GREGORIAN
BEGIN:VEVENT
UID:2d1829959865bca3afccacfa79eba054
DTSTAMP:20260419T215537Z
SUMMARY:Interclub con Rotary Lugano Lago - FC Lugano SA: Storia di una tras
 formazione -  Conferenza con CEO Martin Blaser
DESCRIPTION:
URL:https://rotaract-ticino.ch/is/agenda/show/193037
DTSTART;TZID=Europe/Zurich:20250402T191500
DTEND;TZID=Europe/Zurich:20250402T223000
LOCATION:Hotel Principe Leopoldo
CATEGORIES:Rotaract
END:VEVENT
BEGIN:VTIMEZONE
TZID:Europe/Zurich
BEGIN:DAYLIGHT
DTSTART:20250402T191500
TZNAME:CEST
TZOFFSETTO:+0200
TZOFFSETFROM:+0200
END:DAYLIGHT
END:VTIMEZONE
END:VCALENDAR
