BEGIN:VCALENDAR
PRODID:-//eluceo/ical//2.0/EN
VERSION:2.0
CALSCALE:GREGORIAN
BEGIN:VEVENT
UID:ce921cde88c6059117806d7789522717
DTSTAMP:20260419T184022Z
SUMMARY:Visita aziendale Interroll
DESCRIPTION:
URL:https://rotaract-ticino.ch/is/agenda/show/192906
DTSTART;TZID=Europe/Zurich:20250523T170000
DTEND;TZID=Europe/Zurich:20250523T200000
LOCATION:Via Industrie 4\, 6592 Sant'Antonino
CATEGORIES:Rotaract
END:VEVENT
BEGIN:VTIMEZONE
TZID:Europe/Zurich
BEGIN:DAYLIGHT
DTSTART:20250523T170000
TZNAME:CEST
TZOFFSETTO:+0200
TZOFFSETFROM:+0200
END:DAYLIGHT
END:VTIMEZONE
END:VCALENDAR
