BEGIN:VCALENDAR
PRODID:-//eluceo/ical//2.0/EN
VERSION:2.0
CALSCALE:GREGORIAN
BEGIN:VEVENT
UID:1225eb4d4276a5c20054f52cef3c6342
DTSTAMP:20260421T212322Z
SUMMARY:Vendemmia insieme!
DESCRIPTION:Fyrirlesari(ar): Buongiorno a tutti\, Domenica 29 Settembre s
 aremo insieme al Rotaract Club Milano Nord-Est Brera. Abbiamo quindi pensa
 to di partecipare ad una Vendemmia Insieme presso Azienda Agricola Criolin
  in provincia di ASTI.Ulteriori informazioni inerenti posteggi e luogo di 
 ritrovo esatto seguiranno per i presenti. SOLD OUT!
URL:https://rotaract-ticino.ch/is/agenda/show/185551
DTSTART;TZID=Europe/Zurich:20240929T103000
DTEND;TZID=Europe/Zurich:20240929T173000
LOCATION:Castagnole Lanze (AT)
CATEGORIES:Rotaract
END:VEVENT
BEGIN:VTIMEZONE
TZID:Europe/Zurich
BEGIN:DAYLIGHT
DTSTART:20240929T103000
TZNAME:CEST
TZOFFSETTO:+0200
TZOFFSETFROM:+0200
END:DAYLIGHT
END:VTIMEZONE
END:VCALENDAR
