BEGIN:VCALENDAR
PRODID:-//eluceo/ical//2.0/EN
VERSION:2.0
CALSCALE:GREGORIAN
BEGIN:VEVENT
UID:21f4393dc9c7959f709e7e89e803bec9
DTSTAMP:20260421T213540Z
SUMMARY:Privacy e internet un connubio imperfetto
DESCRIPTION:
URL:https://rotaract-ticino.ch/is/agenda/show/174136
DTSTART;TZID=Europe/Zurich:20240508T191500
DTEND;TZID=Europe/Zurich:20240508T215500
LOCATION:Masseria\, Via Trevano 2\, 6948 Porza
CATEGORIES:Rotaract
END:VEVENT
BEGIN:VTIMEZONE
TZID:Europe/Zurich
BEGIN:DAYLIGHT
DTSTART:20240508T191500
TZNAME:CEST
TZOFFSETTO:+0200
TZOFFSETFROM:+0200
END:DAYLIGHT
END:VTIMEZONE
END:VCALENDAR
