BEGIN:VCALENDAR
PRODID:-//eluceo/ical//2.0/EN
VERSION:2.0
CALSCALE:GREGORIAN
BEGIN:VEVENT
UID:c3a118d492cd1d8676b9db74296ae4f5
DTSTAMP:20260420T001121Z
SUMMARY:SERVICE - TAVOLINO MAGICO
DESCRIPTION:
URL:https://rotaract-ticino.ch/is/agenda/show/166302
DTSTART;TZID=Europe/Zurich:20231216T083000
DTEND;TZID=Europe/Zurich:20231216T173000
LOCATION:Coop di Bioggio
CATEGORIES:Rotaract
END:VEVENT
BEGIN:VTIMEZONE
TZID:Europe/Zurich
BEGIN:STANDARD
DTSTART:20231216T083000
TZNAME:CET
TZOFFSETTO:+0100
TZOFFSETFROM:+0100
END:STANDARD
END:VTIMEZONE
END:VCALENDAR
