BEGIN:VCALENDAR
PRODID:-//eluceo/ical//2.0/EN
VERSION:2.0
CALSCALE:GREGORIAN
BEGIN:VEVENT
UID:9c259b24456f49d4c18ad16009eac715
DTSTAMP:20260420T004517Z
SUMMARY:Assemblea Ordinaria con passaggio delle Cariche
DESCRIPTION:
URL:https://rotaract-ticino.ch/is/agenda/show/155699
DTSTART;TZID=Europe/Zurich:20230627T190000
DTEND;TZID=Europe/Zurich:20230627T220000
LOCATION:Canvetto Luganese\, Lugano
CATEGORIES:Rotaract
END:VEVENT
BEGIN:VTIMEZONE
TZID:Europe/Zurich
BEGIN:DAYLIGHT
DTSTART:20230627T190000
TZNAME:CEST
TZOFFSETTO:+0200
TZOFFSETFROM:+0200
END:DAYLIGHT
END:VTIMEZONE
END:VCALENDAR
