BEGIN:VCALENDAR
PRODID:-//eluceo/ical//2.0/EN
VERSION:2.0
CALSCALE:GREGORIAN
BEGIN:VEVENT
UID:00cad0a985bda587f1e01c22c75e2a6c
DTSTAMP:20260420T023320Z
SUMMARY:Economia e Finanzia: un modello in crisi
DESCRIPTION:
URL:https://rotaract-ticino.ch/is/agenda/show/155696
DTSTART;TZID=Europe/Zurich:20230228T190000
DTEND;TZID=Europe/Zurich:20230228T220000
LOCATION:Serra Fiorita Meeting
CATEGORIES:Rotaract
END:VEVENT
BEGIN:VTIMEZONE
TZID:Europe/Zurich
BEGIN:STANDARD
DTSTART:20230228T190000
TZNAME:CET
TZOFFSETTO:+0100
TZOFFSETFROM:+0100
END:STANDARD
END:VTIMEZONE
END:VCALENDAR
