BEGIN:VCALENDAR
PRODID:-//eluceo/ical//2.0/EN
VERSION:2.0
CALSCALE:GREGORIAN
BEGIN:VEVENT
UID:6ccbc9d7402d0a42c1089f675c43e274
DTSTAMP:20260420T044608Z
SUMMARY:Chi siamo e cosa facciamo - Rotary Locarno
DESCRIPTION:
URL:https://rotaract-ticino.ch/is/agenda/show/154813
DTSTART;TZID=Europe/Zurich:20230110T183000
DTEND;TZID=Europe/Zurich:20230110T223000
LOCATION:Hotel Belvedere\, Locarno
CATEGORIES:Rotaract
END:VEVENT
BEGIN:VTIMEZONE
TZID:Europe/Zurich
BEGIN:STANDARD
DTSTART:20230110T183000
TZNAME:CET
TZOFFSETTO:+0100
TZOFFSETFROM:+0100
END:STANDARD
END:VTIMEZONE
END:VCALENDAR
