BEGIN:VCALENDAR
PRODID:-//eluceo/ical//2.0/EN
VERSION:2.0
CALSCALE:GREGORIAN
BEGIN:VEVENT
UID:4a91ad990e3b9b256f53f9de38524356
DTSTAMP:20260422T021623Z
SUMMARY:Presentazione progetto Marks Hurt no more al Rotary Lugano Lago
DESCRIPTION:
URL:https://rotaract-ticino.ch/is/agenda/show/151462
DTSTART;TZID=Europe/Zurich:20221130T191500
DTEND;TZID=Europe/Zurich:20221130T223000
LOCATION:Hotel Villa Principe Leopoldo\, Lugano
CATEGORIES:Rotaract
END:VEVENT
BEGIN:VTIMEZONE
TZID:Europe/Zurich
BEGIN:STANDARD
DTSTART:20221130T191500
TZNAME:CET
TZOFFSETTO:+0100
TZOFFSETFROM:+0100
END:STANDARD
END:VTIMEZONE
END:VCALENDAR
