BEGIN:VCALENDAR
PRODID:-//eluceo/ical//2.0/EN
VERSION:2.0
CALSCALE:GREGORIAN
BEGIN:VEVENT
UID:7145ad9e56b854f58ca506334b623400
DTSTAMP:20260420T075808Z
SUMMARY:Assemblea Generale Ordinaria
DESCRIPTION:
URL:https://rotaract-ticino.ch/is/agenda/show/148992
DTSTART;TZID=Europe/Zurich:20230124T191500
DTEND;TZID=Europe/Zurich:20230124T221500
LOCATION:Canvetto Luganese\, Lugano
CATEGORIES:Rotaract
END:VEVENT
BEGIN:VTIMEZONE
TZID:Europe/Zurich
BEGIN:STANDARD
DTSTART:20230124T191500
TZNAME:CET
TZOFFSETTO:+0100
TZOFFSETFROM:+0100
END:STANDARD
END:VTIMEZONE
END:VCALENDAR
