BEGIN:VCALENDAR
PRODID:-//eluceo/ical//2.0/EN
VERSION:2.0
CALSCALE:GREGORIAN
BEGIN:VEVENT
UID:67f318cf604690874498b60eae8eb662
DTSTAMP:20260420T094310Z
SUMMARY:Domenica a Milano con Rotaract Brera
DESCRIPTION:
URL:https://rotaract-ticino.ch/is/agenda/show/137908
DTSTART;TZID=Europe/Zurich:20220424T090000
DTEND;TZID=Europe/Zurich:20220424T180000
LOCATION:Milano
CATEGORIES:Rotaract
END:VEVENT
BEGIN:VTIMEZONE
TZID:Europe/Zurich
BEGIN:DAYLIGHT
DTSTART:20220424T090000
TZNAME:CEST
TZOFFSETTO:+0200
TZOFFSETFROM:+0200
END:DAYLIGHT
END:VTIMEZONE
END:VCALENDAR
