BEGIN:VCALENDAR
PRODID:-//eluceo/ical//2.0/EN
VERSION:2.0
CALSCALE:GREGORIAN
BEGIN:VEVENT
UID:f802c0943cc158c9d60e7071aaf65827
DTSTAMP:20260420T094804Z
SUMMARY:Cena con ospite - Alessandro Pasquali e i Tecno-prodotti
DESCRIPTION:Fyrirlesari(ar): Alessandro Pasquali
URL:https://rotaract-ticino.ch/is/agenda/show/137905
DTSTART;TZID=Europe/Zurich:20220412T190000
DTEND;TZID=Europe/Zurich:20220412T220000
LOCATION:Canvetto Luganese
CATEGORIES:Rotaract
END:VEVENT
BEGIN:VTIMEZONE
TZID:Europe/Zurich
BEGIN:DAYLIGHT
DTSTART:20220412T190000
TZNAME:CEST
TZOFFSETTO:+0200
TZOFFSETFROM:+0200
END:DAYLIGHT
END:VTIMEZONE
END:VCALENDAR
