BEGIN:VCALENDAR
PRODID:-//eluceo/ical//2.0/EN
VERSION:2.0
CALSCALE:GREGORIAN
BEGIN:VEVENT
UID:e2d3bc17c84daf2ab7988531bf4e6f4d
DTSTAMP:20260424T124024Z
SUMMARY:Assemblea Generale ordinaria
DESCRIPTION:
URL:https://rotaract-ticino.ch/is/agenda/show/137904
DTSTART;TZID=Europe/Zurich:20220120T190000
DTEND;TZID=Europe/Zurich:20220120T190000
LOCATION:Online
CATEGORIES:Rotaract
END:VEVENT
BEGIN:VTIMEZONE
TZID:Europe/Zurich
BEGIN:STANDARD
DTSTART:20220120T190000
TZNAME:CET
TZOFFSETTO:+0100
TZOFFSETFROM:+0100
END:STANDARD
END:VTIMEZONE
END:VCALENDAR
