BEGIN:VCALENDAR
PRODID:-//eluceo/ical//2.0/EN
VERSION:2.0
CALSCALE:GREGORIAN
BEGIN:VEVENT
UID:516d80521e2647ebe9a7b2133b9a1115
DTSTAMP:20260420T130224Z
SUMMARY:SERVICE INSIEME - MENSA CENTRO BETHLEHEM
DESCRIPTION:Site internet: http://www.rac-luganoceresio.ch/club/activities/
 agenda.php
URL:https://rotaract-ticino.ch/fr/agenda/show/202657
DTSTART;TZID=Europe/Zurich:20251004T103000
DTEND;TZID=Europe/Zurich:20251004T150000
LOCATION:Locanda della Masseria\, Via Trevano 2\, 6948 Porza
CATEGORIES:Rotaract
END:VEVENT
BEGIN:VTIMEZONE
TZID:Europe/Zurich
BEGIN:DAYLIGHT
DTSTART:20251004T103000
TZNAME:CEST
TZOFFSETTO:+0200
TZOFFSETFROM:+0200
END:DAYLIGHT
END:VTIMEZONE
END:VCALENDAR
