BEGIN:VCALENDAR
PRODID:-//eluceo/ical//2.0/EN
VERSION:2.0
CALSCALE:GREGORIAN
BEGIN:VEVENT
UID:886bb15a880ec860ee69822a198ab4e4
DTSTAMP:20260422T133410Z
SUMMARY:Make a Wish - Presentazione associazioni e progetti
DESCRIPTION:
URL:https://rotaract-ticino.ch/fr/agenda/show/168819
DTSTART;TZID=Europe/Zurich:20231128T193000
DTEND;TZID=Europe/Zurich:20231128T223000
LOCATION:Canvetto Luganese\, Lugano
CATEGORIES:Rotaract
END:VEVENT
BEGIN:VTIMEZONE
TZID:Europe/Zurich
BEGIN:STANDARD
DTSTART:20231128T193000
TZNAME:CET
TZOFFSETTO:+0100
TZOFFSETFROM:+0100
END:STANDARD
END:VTIMEZONE
END:VCALENDAR
