BEGIN:VCALENDAR
PRODID:-//eluceo/ical//2.0/EN
VERSION:2.0
CALSCALE:GREGORIAN
BEGIN:VEVENT
UID:24feb6a99fe344782d75d9abf489a6be
DTSTAMP:20260423T075625Z
SUMMARY:Assemble Generale ordinaria
DESCRIPTION:
URL:https://rotaract-ticino.ch/fr/agenda/show/137911
DTSTART;TZID=Europe/Zurich:20220621T190000
DTEND;TZID=Europe/Zurich:20220621T220000
LOCATION:Canvetto Luganese
CATEGORIES:Rotaract
END:VEVENT
BEGIN:VTIMEZONE
TZID:Europe/Zurich
BEGIN:DAYLIGHT
DTSTART:20220621T190000
TZNAME:CEST
TZOFFSETTO:+0200
TZOFFSETFROM:+0200
END:DAYLIGHT
END:VTIMEZONE
END:VCALENDAR
