BEGIN:VCALENDAR
PRODID:-//eluceo/ical//2.0/EN
VERSION:2.0
CALSCALE:GREGORIAN
BEGIN:VEVENT
UID:b2db60a1dc81df33548f575106bb0229
DTSTAMP:20260423T103938Z
SUMMARY:FINGER FOOD DI BENEFICENZA
DESCRIPTION:Conférencier(s): Azzurra Maran nel suo laboratorio\, Beautifoo
 d a\nLocarno\, ci insegnerà come comporre dei Finger Food per aperitivo\n
 \nAline Esposito ci presenterà la tematica dei bambini\nad alto potenzial
 e cognitivo
URL:https://rotaract-ticino.ch/fr/agenda/show/134227
DTSTART;TZID=Europe/Zurich:20211111T180000
DTEND;TZID=Europe/Zurich:20211111T230000
LOCATION:Locarno
CATEGORIES:Rotaract
END:VEVENT
BEGIN:VTIMEZONE
TZID:Europe/Zurich
BEGIN:STANDARD
DTSTART:20211111T180000
TZNAME:CET
TZOFFSETTO:+0100
TZOFFSETFROM:+0100
END:STANDARD
END:VTIMEZONE
END:VCALENDAR
