BEGIN:VCALENDAR
PRODID:-//eluceo/ical//2.0/EN
VERSION:2.0
CALSCALE:GREGORIAN
BEGIN:VEVENT
UID:27691e9e3757b90f6f090aa41847dc48
DTSTAMP:20260424T053350Z
SUMMARY:ALLA SCOPERTA DEL PROGETTO CERERE\; DAL CIBO SOSTENIBILE A KM 0 E N
 ON SOLO….
DESCRIPTION:Conférencier(s): Elias Minotti
URL:https://rotaract-ticino.ch/fr/agenda/show/134224
DTSTART;TZID=Europe/Zurich:20211130T190000
DTEND;TZID=Europe/Zurich:20211130T233000
LOCATION:Bellinzona
CATEGORIES:Rotaract
END:VEVENT
BEGIN:VTIMEZONE
TZID:Europe/Zurich
BEGIN:STANDARD
DTSTART:20211130T190000
TZNAME:CET
TZOFFSETTO:+0100
TZOFFSETFROM:+0100
END:STANDARD
END:VTIMEZONE
END:VCALENDAR
