BEGIN:VCALENDAR
PRODID:-//eluceo/ical//2.0/EN
VERSION:2.0
CALSCALE:GREGORIAN
BEGIN:VEVENT
UID:cae514914422bc80b684df2731cebe7e
DTSTAMP:20260422T100507Z
SUMMARY:LA GRIGLIATA DI BENEFICENZA - Rotaract
DESCRIPTION:Conférencier(s): 
URL:https://rotaract-ticino.ch/fr/agenda/show/132266
DTSTART;TZID=Europe/Zurich:20210924T193000
DTEND;TZID=Europe/Zurich:20210924T223000
LOCATION:Via al Roccolo 8\, Breganzona
CATEGORIES:Rotaract
END:VEVENT
BEGIN:VTIMEZONE
TZID:Europe/Zurich
BEGIN:DAYLIGHT
DTSTART:20210924T193000
TZNAME:CEST
TZOFFSETTO:+0200
TZOFFSETFROM:+0200
END:DAYLIGHT
END:VTIMEZONE
END:VCALENDAR
