BEGIN:VCALENDAR
PRODID:-//eluceo/ical//2.0/EN
VERSION:2.0
CALSCALE:GREGORIAN
BEGIN:VEVENT
UID:f49a8337a12c08aaa02cb7018783150e
DTSTAMP:20260424T232910Z
SUMMARY:CONFERENZA VIOLENZA DOMESTICA
DESCRIPTION:
URL:https://rotaract-ticino.ch/es/agenda/show/134225
DTSTART;TZID=Europe/Zurich:20211202T183000
DTEND;TZID=Europe/Zurich:20211202T200000
LOCATION:Monte Carasso
CATEGORIES:Rotaract
END:VEVENT
BEGIN:VTIMEZONE
TZID:Europe/Zurich
BEGIN:STANDARD
DTSTART:20211202T183000
TZNAME:CET
TZOFFSETTO:+0100
TZOFFSETFROM:+0100
END:STANDARD
END:VTIMEZONE
END:VCALENDAR
