BEGIN:VCALENDAR
PRODID:-//eluceo/ical//2.0/EN
VERSION:2.0
CALSCALE:GREGORIAN
BEGIN:VEVENT
UID:867d25c4ea0cb0a20b8c360add31bb0e
DTSTAMP:20260423T204803Z
SUMMARY:CAPOLAVORI DELLA FOTOGRAFIA MODERNA
DESCRIPTION:
URL:https://rotaract-ticino.ch/es/agenda/show/124305
DTSTART;TZID=Europe/Zurich:20210617T184500
DTEND;TZID=Europe/Zurich:20210617T184500
LOCATION:MASI - LUGANO
CATEGORIES:Rotaract
END:VEVENT
BEGIN:VTIMEZONE
TZID:Europe/Zurich
BEGIN:DAYLIGHT
DTSTART:20210617T184500
TZNAME:CEST
TZOFFSETTO:+0200
TZOFFSETFROM:+0200
END:DAYLIGHT
END:VTIMEZONE
END:VCALENDAR
