BEGIN:VCALENDAR
PRODID:-//eluceo/ical//2.0/EN
VERSION:2.0
CALSCALE:GREGORIAN
BEGIN:VEVENT
UID:d41cff2a957d50b3ca9bba21e4c30d3f
DTSTAMP:20260423T215107Z
SUMMARY:Serata con ospite insieme ai Rotary Club ticinesi
DESCRIPTION:Orador(es): Arch. Carlo Blasi
URL:https://rotaract-ticino.ch/es/agenda/show/124213
DTSTART;TZID=Europe/Zurich:20210607T200000
DTEND;TZID=Europe/Zurich:20210607T220000
LOCATION:Zoom
CATEGORIES:Rotaract
END:VEVENT
BEGIN:VTIMEZONE
TZID:Europe/Zurich
BEGIN:DAYLIGHT
DTSTART:20210607T200000
TZNAME:CEST
TZOFFSETTO:+0200
TZOFFSETFROM:+0200
END:DAYLIGHT
END:VTIMEZONE
END:VCALENDAR
