BEGIN:VCALENDAR
PRODID:-//eluceo/ical//2.0/EN
VERSION:2.0
CALSCALE:GREGORIAN
BEGIN:VEVENT
UID:d174977fe1e64d5215488e576cd6624e
DTSTAMP:20260419T141733Z
SUMMARY:Evento info della Società Sclerosi multipla per le novità terapeu
 tiche
DESCRIPTION:Cari soci\,\n\ncari amici\,\n\n \n\ncontinua la collaborazione
  tra il nostro Club e la Società Svizzera Sclerosi Multipla!\n\n \n\nL
 ’amica Cristina Minotti\, Rappresentante regionale Svizzera italiana ha 
 richiesto il nostro aiuto per l’organizzazione del loro prossimo evento:
  Mattinata informativa “Novità Terapeutiche nella SM”. Si tratta di u
 n appuntamento annuale dove specialisti di questa malattia espongono gli s
 tudi in via di conclusione sui fari farmaci per il decorso o per i sintomi
  della SM. Vista l’importanza dei temi trattati\, ogni anno si contano c
 irca 200 visitatori. Per questo motivo hanno bisogno anche di noi.\n\n \n
 \nLa conferenza si terrà domenica 20 novembre 2016 nell’aula magna dell
 a SUPSI a Trevano e dovremmo garantire la nostra presenza dalle 08.30 fino
  verso le 12.30. Si tratterà di accogliere gli ospiti\, accompagnarli al 
 posto\, fornire informazioni\, coordinare le auto nel posteggio ecc.\n\n 
 \n\nIscriviti tramite il seguente doodle:\n\nhttps://doodle.com/poll/h7vrd
 hpvvaitiyiu\n\n \n\nper passare una domenica mattina in compagnia facendo
  del bene e regalando un sorriso a chi è meno fortunato. Ci scusiamo per 
 il poco preavviso ma per motivi organizzativi vi chiediamo di iscrivervi e
 ntro e non oltre venerdì 11 novembre.\n\n \n\n \n\nUn carissimo saluto 
 rotaractiano\,\n\n \n\n \n\nFabia Parola\n\nPast President\nOrador(es): 
 Cristina Minotti\n\nSocietà svizzera sclerosi multipla\nVia S. Gottardo 5
 0\, CH-6900 Lugano\nT 091 922 61 10 / F 091 922 61 16\n
URL:https://rotaract-ticino.ch/es/agenda/show/121067
DTSTART;TZID=Europe/Zurich:20161120T083000
DTEND;TZID=Europe/Zurich:20161120T123000
LOCATION:SUPSI Trevano (Aula Magna)
CATEGORIES:Rotaract
END:VEVENT
BEGIN:VTIMEZONE
TZID:Europe/Zurich
BEGIN:STANDARD
DTSTART:20161120T083000
TZNAME:CET
TZOFFSETTO:+0100
TZOFFSETFROM:+0100
END:STANDARD
END:VTIMEZONE
END:VCALENDAR
