BEGIN:VCALENDAR
PRODID:-//eluceo/ical//2.0/EN
VERSION:2.0
CALSCALE:GREGORIAN
BEGIN:VEVENT
UID:d58ed811dcd94cd54b8383531b5318b9
DTSTAMP:20260421T115158Z
SUMMARY:Aperitivo Estivo
DESCRIPTION:Cari soci\,\n\ncari amici\,\n\n \n\n E’ arrivata l’estate
 !\n\n \n\n\n\n \n\nPer salutarvi tutti prima della pausa estiva vi aspet
 tiamo nella splendida cornice della foce di Lugano per un aperitivo gioved
 ì 14 luglio al Ristorante alla Foce presso il Circolo velico lago di 
 Lugano (Via Foce 9\, 6900 Lugano) a partire dalle 18.30.\n\n \n\nMi rac
 comando non esitate ad invitare amici\, colleghi e conoscenti che potreb
 bero essere interessati al nostro Club e alle nostre attività.\n\n Vi p
 reghiamo di confermare la vostra presenza all’aperitivo tramite il segue
 nte link doodle:https://doodle.com/poll/mrhhcm6xfh5m24qm\n\n \n\nCon la 
 speranza di incontrarvi presto\,\n\nporgiamo i nostri migliori rotaractian
 i saluti.
URL:https://rotaract-ticino.ch/es/agenda/show/120961
DTSTART;TZID=Europe/Zurich:20160714T183000
DTEND;TZID=Europe/Zurich:20160714T183000
LOCATION:Ristorante alla Foce
CATEGORIES:Rotaract
END:VEVENT
BEGIN:VTIMEZONE
TZID:Europe/Zurich
BEGIN:DAYLIGHT
DTSTART:20160714T183000
TZNAME:CEST
TZOFFSETTO:+0200
TZOFFSETFROM:+0200
END:DAYLIGHT
END:VTIMEZONE
END:VCALENDAR
