BEGIN:VCALENDAR
PRODID:-//eluceo/ical//2.0/EN
VERSION:2.0
CALSCALE:GREGORIAN
BEGIN:VEVENT
UID:1eb8f0e1580bfa5c367dfe756f92fe2a
DTSTAMP:20260419T141529Z
SUMMARY:Cena dei 200
DESCRIPTION:Buon giorno a tutti\,\n\n \n\nvi inoltro l'invito alla "Cena d
 ei 200"\, organizzata come ogni anno dall'Hockey Club Ceresio\, di cui mio
  padre è vicepresidente\, allo scopo di raccogliere fondi per la società
 .\n\n \n\nLa cena si terrà venerdì 26 febbraio 2016 dalle ore 19.30 pre
 sso il Ristorante “Alla Bricola” di Rivera. Il menù della serata sar
 à “Mega bollito misto a volontà”\, comprensivo dell’antipasto\, de
 l dessert\, di ¼ di bottiglia di vino\, acqua minerale nonché degli spet
 tacoli sul palco e i giochi di prestigio ai tavoli del mentalist Mago Lip\
 , del Mago René e del Mago Amedeo. \n\n \n\nIl costo della cena sarà d
 eterminato dalla fortuna. Durante la serata si procederà all’estrazione
  dei partecipanti. Il primo estratto pagherà fr. 1.- il secondo fr. 2.- e
  così di seguito.\n\n \n\nVogliate cortesemente indicare la vostra prese
 nza al seguente link entro venerdì 12 febbraio 2016:\n\n \n\nhttps://doo
 dle.com/poll/8yz2b63vnut7a7a3\n\n \n\nGiovanna ed io saremo presenti con 
 le nostre famiglie. Ci farebbe molto piacere se alcuni di voi riuscissero 
 a partecipare all'evento.\n\n \n\nGrazie a tutti e buona settimana a tutt
 i.\n\n \n\nCari saluti\,\n\n \n\nFede\n\n \n\nFederico Umberto Mion\n\n
 Rotaract Club Lugano – Ceresio\n\nPast President\n\nc/o Canvetto Luganes
 e\n\nVia Simen 14b\n\n6900 Lugano
URL:https://rotaract-ticino.ch/es/agenda/show/120838
DTSTART;TZID=Europe/Zurich:20160226T193000
DTEND;TZID=Europe/Zurich:20160226T193000
LOCATION:Rivera
CATEGORIES:Rotaract
END:VEVENT
BEGIN:VTIMEZONE
TZID:Europe/Zurich
BEGIN:STANDARD
DTSTART:20160226T193000
TZNAME:CET
TZOFFSETTO:+0100
TZOFFSETFROM:+0100
END:STANDARD
END:VTIMEZONE
END:VCALENDAR
