BEGIN:VCALENDAR
PRODID:-//eluceo/ical//2.0/EN
VERSION:2.0
CALSCALE:GREGORIAN
BEGIN:VEVENT
UID:b0f3724598e723e6c68e0c2929452000
DTSTAMP:20260419T141818Z
SUMMARY:Cena con ospite
DESCRIPTION:Cari soci e cari amici\,\n\n \n\nabbiamo il piacere di invitar
 vi ad una conviviale in data giovedì 21 aprile 2016 presso la nostra sede
 \, il Ristorante Canvetto Luganese\, alle ore 18:30. L’ospite della sera
 ta sarà la Sig.ra Cristina Minotti\, rappresentante regionale per la Sviz
 zera italiana della Società svizzera sclerosi multipla\, che ci presenter
 à innanzi tutto l’associazione per la quale lavora e le diverse tipolog
 ie di sostegno offerte ai malati.\n\nAlla presentazione seguirà una cena 
 informale presso il ristorante\, al fine di poter approfittare della prese
 nza della Sig.ra Minotti per sollevare eventuali domande e discussioni int
 eressanti\, nonché di trascorrere una piacevole serata tutti insieme.\n\n
  \n\nIl menù della cena sarà il seguente (eventuali allergie e/o intoll
 eranze sono da segnalare al più presto a pastpresident@rac-luganoceresio.
 ch):\n\n\nSformatino di ricotta e verdurine con crema di zucchine\nCostole
 tta di maiale impanata con insalatina di pomodorini e rucola\, patate arr
 osto\nGelato al cioccolato e vaniglia\nAcqua e caffè\n\n\nIl costo della 
 cena ammonta a CHF 45 per persona\, da versare entro e non oltre lunedì 1
 8 aprile 2016 sul conto del club:\n\n \n\nBeneficiario: Rotaract Club Lug
 ano-Ceresio\nBanca: Credit Suisse AG\, 8070 Zürich\nNumero di conto: 0456
 -1249796-01\nIBAN: CH30 0483 5124 9796 0100 0\nSWIFT: CRESCHZZ80A\n\n \n\
 nConsiderando che la Società svizzera sclerosi multipla sarà presente an
 che quest’anno alla manifestazione StraLugano\, abbiamo deciso di partec
 ipare attivamente come club alla corsa organizzata Run4Charity\, sostenen
 do così l’associazione. Si tratta di una corsa popolare non competitiva
 \, aperta a tutti e snodata su un percorso di 5km\, da affrontare cammina
 ndo\, correndo o marciando\, che si terrà sabato 21 maggio alle ore 20:3
 0 con partenza dalla Piazza Riforma di Lugano. L’iscrizione costa 20 CHF
  a partecipante\, da versare entro e non oltre lunedì 18 aprile 2016 se
 mpre sul conto del nostro club. Sarà un’ottima occasione per svolgere u
 n service a favore di un’importante associazione\, cogliendo l’opportu
 nità per bruciare qualche caloria in vista dell’estate.\n\n \n\nPer fi
 ni organizzativi vi chiediamo gentilmente di voler indicare la vostra disp
 onibilità ai due eventi (Cena con ospite e Run4Charity) attraverso il seg
 uente Doodle\, entro e non oltre lunedì 18 aprile 2016:\n\n \n\nhttps:/
 /doodle.com/poll/6m53652mf7h2s6f5\n\n \n\nPer quanto concerne la Run4Char
 ity\, coloro che desiderano partecipare sono pregati di voler riempire il 
 formulario Excel qui allegato con i propri dati personali e di ritornarlo
  entro e non oltre lunedì 18 aprile 2016 a:\n\n \n\npastpresident@rac-l
 uganoceresio.ch\n\n \n\nRingraziandovi anticipatamente per il vostro sost
 egno\, vi ringraziamo già sin d’ora per la partecipazione e rimaniamo a
  vostra disposizione per qualsiasi ulteriore informazione in merito.\n\n 
 \n\nRotaractiani saluti
URL:https://rotaract-ticino.ch/es/agenda/show/120815
DTSTART;TZID=Europe/Zurich:20160421T000000
DTEND;TZID=Europe/Zurich:20160421T000000
LOCATION:Canvetto Luganese
CATEGORIES:Rotaract
END:VEVENT
BEGIN:VTIMEZONE
TZID:Europe/Zurich
BEGIN:DAYLIGHT
DTSTART:20160421T000000
TZNAME:CEST
TZOFFSETTO:+0200
TZOFFSETFROM:+0200
END:DAYLIGHT
END:VTIMEZONE
END:VCALENDAR
