BEGIN:VCALENDAR
PRODID:-//eluceo/ical//2.0/EN
VERSION:2.0
CALSCALE:GREGORIAN
BEGIN:VEVENT
UID:aef63a50e4219a9ca0df7aef8984be2e
DTSTAMP:20260423T084215Z
SUMMARY:Aperitivo del giovedi
DESCRIPTION:Dopo una lunga pausa\, ritornano anche gli aperitivi del gioved
 ì!\n\nDa dicembre vorremmo riprendere la buona abitudine che avevamo lanc
 iato durante il semestre scorso\, e cioè di trovarci una volta al mese pe
 r un aperitivo aperto a tutti\, soci\, amici\, conoscenti\, compagni e col
 leghi. Una bella e rilassata occasione per passare del tempo insieme davan
 ti a un buon aperitivo\, scambiando qualche chiacchiera e conoscendoci meg
 lio.\n\nVi aspettiamo quindi giovedì 03 dicembre a partire dalle 18.30
  al ristorante Bank\, in Corso Pestalozzi 21A\, Lugano (http://www.risto
 rantebank.com/)\, dove saremo peraltro intrattenuti con musica dal vivo.\n
 Sitio web: http://www.ristorantebank.com/
URL:https://rotaract-ticino.ch/es/agenda/show/120781
DTSTART;TZID=Europe/Zurich:20151203T183000
DTEND;TZID=Europe/Zurich:20151203T183000
LOCATION:Ristorante Bank\, Lugano
CATEGORIES:Rotaract
END:VEVENT
BEGIN:VTIMEZONE
TZID:Europe/Zurich
BEGIN:STANDARD
DTSTART:20151203T183000
TZNAME:CET
TZOFFSETTO:+0100
TZOFFSETFROM:+0100
END:STANDARD
END:VTIMEZONE
END:VCALENDAR
