BEGIN:VCALENDAR
PRODID:-//eluceo/ical//2.0/EN
VERSION:2.0
CALSCALE:GREGORIAN
BEGIN:VEVENT
UID:1215edd8c89e96fac4958cc0b3c10420
DTSTAMP:20260419T141014Z
SUMMARY:Aperò di solidarietà\, Lions e Leo Club Lugano
DESCRIPTION:Cari soci\, cari amici\,\n\n \n\nin occasione dell’aperitivo
  di solidarietà organizzato dal Lions Club Lugano e LEO Lugano il 12 nov
 embre 2015 dalle 18.00 presso l’ex asilo Ciani a Lugano\, abbiamo pensat
 o di portare il nostro contributo partecipando all’evento. In allegato t
 rovate il flyer dell’evento.\n\n \n\nVi invitiamo ad iscrivervi numeros
 i al seguente link http://doodle.com/poll/utesu2aeyeq9ew7c indicando il 
 vostro nome e cognome entro giovedì 29.10.15. Il costo del biglietto 
 è di CHF 30.- che vi preghiamo di versare sul nostro conto entro il te
 rmine di iscrizione. Ci scusiamo per il poco preavviso ma i biglietti sono
  andati a ruba e presto chiuderanno le preiscrizioni.\n\n \n\nIl nostro r
 itrovo sarà davanti all’entrata dell’ex asilo Ciani alle 18.15 in mod
 o da potervi distribuire i biglietti ed accedere tutti insieme.\n\n \n\nF
 elici di potervi rivedere presto inviamo i nostri migliori rotaractiani sa
 luti.\n\n \n\n \n\nLuca Bottinelli\n\nSegretario\n\n079 751 20 25\n\nse
 gretariato@rac-luganoceresio.ch\n\n \n\nRotaract Lugano-Ceresio\n\nc/o Ca
 nvetto Luganese\n\nVia Rinaldo Simen 14\n\n6900 Lugano
URL:https://rotaract-ticino.ch/es/agenda/show/120734
DTSTART;TZID=Europe/Zurich:20151112T181500
DTEND;TZID=Europe/Zurich:20151112T181500
LOCATION:Ex asilo Ciani\, Lugano
CATEGORIES:Rotaract
END:VEVENT
BEGIN:VTIMEZONE
TZID:Europe/Zurich
BEGIN:STANDARD
DTSTART:20151112T181500
TZNAME:CET
TZOFFSETTO:+0100
TZOFFSETFROM:+0100
END:STANDARD
END:VTIMEZONE
END:VCALENDAR
