BEGIN:VCALENDAR
PRODID:-//eluceo/ical//2.0/EN
VERSION:2.0
CALSCALE:GREGORIAN
BEGIN:VEVENT
UID:8f462ccafa541a23022028eb3f0d02f6
DTSTAMP:20260419T141044Z
SUMMARY:Workshop Public Speaking
DESCRIPTION:Carissmi soci Rotaractiani\, \n\nCari amici\, \n\n \n\nabbia
 mo organizzato una giornata di formazione sul tema "public speaking" con
 dotta da Fabio Doriali\, attore e regista con esperienza pluriennale nell
 ’ambito teatrale.\n\n \n\nUna vera e propria "full immersion"\, la pi
 ù possibile interattiva\, che andrà a toccare i seguenti argomenti: \n\
 n \n\n- il pensiero-azione nel public speaking\n\n- il linguaggio del co
 rpo\n\n- i “trucchi” per catturare l’attenzione\n\n- il controllo em
 otivo del sé\n\n- il pensiero positivo e la capacità di trasmetterlo\n\n
 - registrarsi e guardarsi quando si parla in pubblico correggendosi\n\n- i
 l rapporto con leggio e con microfono\n\n- il “dove”: il luogo in cui 
 parliamo\;\n\n- il “cosa”: l’argomento di cui si parla e il come ren
 derlo interessante a chi ascolta\, indipendentemente dal grado di conoscen
 za o interesse iniziale\n\n- alcuni cenni di lettura in pubblico\n\n \n\n
 Iscrizioni entro mercoledì 4 ottobre 2015 al seguente link:\n\nhttp://doo
 dle.com/poll/r5winpe6ckahqt5k\n\nIl workshop avrà luogo sabato 21 novemb
 re 2015 dalle ore 9.30 alle ore 17.30 presso il Canvetto Luganese\, con p
 ranzo al ristorante del Canvetto stesso. Vi chiediamo di portare un quade
 rno ed una penna\, così come tanta energia e voglia di mettersi in gioco!
 \n\n \n\nIl costo del workshop sarà indicativamente attorno ai 30-40CHF 
 per l’intera giornata\, in funzione del numero di iscritti.\n\n \n\nLuc
 a Bottinelli\n\nSegretario\n\n079 751 20 25\n\nsegretariato@rac-luganocer
 esio.ch\n\n \n\nRotaract Lugano-Ceresio\n\nc/o Canvetto Luganese\n\nVia R
 inaldo Simen 14\n\n6900 Lugano\n\n \n\n 
URL:https://rotaract-ticino.ch/es/agenda/show/120700
DTSTART;TZID=Europe/Zurich:20151121T093000
DTEND;TZID=Europe/Zurich:20151121T173000
LOCATION:Canvetto Luganese\, 6900 Lugano
CATEGORIES:Rotaract
END:VEVENT
BEGIN:VTIMEZONE
TZID:Europe/Zurich
BEGIN:STANDARD
DTSTART:20151121T093000
TZNAME:CET
TZOFFSETTO:+0100
TZOFFSETFROM:+0100
END:STANDARD
END:VTIMEZONE
END:VCALENDAR
