BEGIN:VCALENDAR
PRODID:-//eluceo/ical//2.0/EN
VERSION:2.0
CALSCALE:GREGORIAN
BEGIN:VEVENT
UID:ea3f31dd927e48febbd61ea353ac4e9f
DTSTAMP:20260423T090545Z
SUMMARY:Corsa della speranza
DESCRIPTION:I dettagli seguiranno più avanti.\nSitio web: http://www.corsa
 dellasperanza.ch/
URL:https://rotaract-ticino.ch/es/agenda/show/120595
DTSTART;TZID=Europe/Zurich:20150905T000000
DTEND;TZID=Europe/Zurich:20150905T000000
LOCATION:Lugano
CATEGORIES:Rotaract
END:VEVENT
BEGIN:VTIMEZONE
TZID:Europe/Zurich
BEGIN:DAYLIGHT
DTSTART:20150905T000000
TZNAME:CEST
TZOFFSETTO:+0200
TZOFFSETFROM:+0200
END:DAYLIGHT
END:VTIMEZONE
END:VCALENDAR
